BEGIN:VCALENDAR
VERSION:2.0
PRODID:-//Foster+Freeman - ECPv6.15.18//NONSGML v1.0//EN
CALSCALE:GREGORIAN
METHOD:PUBLISH
X-WR-CALNAME:Foster+Freeman
X-ORIGINAL-URL:https://fosterfreeman.com
X-WR-CALDESC:Events for Foster+Freeman
REFRESH-INTERVAL;VALUE=DURATION:PT1H
X-Robots-Tag:noindex
X-PUBLISHED-TTL:PT1H
BEGIN:VTIMEZONE
TZID:UTC
BEGIN:STANDARD
TZOFFSETFROM:+0000
TZOFFSETTO:+0000
TZNAME:UTC
DTSTART:20210101T000000
END:STANDARD
END:VTIMEZONE
BEGIN:VEVENT
DTSTART;TZID=UTC:20220901T000000
DTEND;TZID=UTC:20220903T235959
DTSTAMP:20260421T115329
CREATED:20220729T111825Z
LAST-MODIFIED:20220926T175031Z
UID:13007-1661990400-1662249599@fosterfreeman.com
SUMMARY:Arm Security
DESCRIPTION:Yerevan\, Armenia\n\n\n\n\n\n\n\nThe Second International Exhibition of Civil Security High Technologies “ArmSecurity” will be held on September\, 2024 by the Ministry of Emergency Situations of the Republic of Armenia. \n\n\n\nThe exhibition is held as a complex of congress-exhibition and demonstration events for the purpose of presenting of high-tech\, Innovative developments and ready-to-use solutions that facilitate the technical re-equipping of fire and rescue units\, state border and customs control services\, police and special services\, as well as promotion of cooperation and business contacts between Armenian and foreign industrial enterprises\, Inter-State and international exchange of experience on national and civil security issues. \n\n\n\n\nVisit Event Website
URL:https://fosterfreeman.com/event/arm-security/
CATEGORIES:Exhibitions
ATTACH;FMTTYPE=image/jpeg:https://fosterfreeman.com/wp-content/uploads/2022/07/arm-sec-box.jpg
END:VEVENT
BEGIN:VEVENT
DTSTART;TZID=UTC:20220911T000000
DTEND;TZID=UTC:20220915T235959
DTSTAMP:20260421T115329
CREATED:20220715T074526Z
LAST-MODIFIED:20220926T175016Z
UID:11757-1662854400-1663286399@fosterfreeman.com
SUMMARY:ANZFSS: 25th Annual Symposium
DESCRIPTION:Brisbane\, Australia\n\n\n\n\n\n\n\nThe 25th Internation Symposium of the Australia and New Zealand Forensic Science Society will be held at the Hilton Brisbane Hotel. \n\n\n\n\nVisit Event Website
URL:https://fosterfreeman.com/event/anzfss-25th-annual-symposium/
LOCATION:Brisbane\, Aus
CATEGORIES:Exhibitions
ATTACH;FMTTYPE=image/jpeg:https://fosterfreeman.com/wp-content/uploads/2022/07/anzfss2.jpg
END:VEVENT
BEGIN:VEVENT
DTSTART;TZID=UTC:20220913T000000
DTEND;TZID=UTC:20220915T235959
DTSTAMP:20260421T115329
CREATED:20220715T074528Z
LAST-MODIFIED:20220926T174958Z
UID:11758-1663027200-1663286399@fosterfreeman.com
SUMMARY:Seventeenth Symposium and Exhibition on ICAO Traveller Identification Programme (TRIP)
DESCRIPTION:Montreal\, Canada\n\n\n\n\n\n\n\nThe TRIP Symposium is an excellent event enabling the exchange of information on all aspects of traveller identification management. Its various sessions will highlight the need to enhance international cooperation and collaboration to facilitate the traveller’s journey while addressing the multiple threats faced by international civil aviation. \n\n\n\n\nVisit Event Website
URL:https://fosterfreeman.com/event/seventeenth-symposium-and-exhibition-on-icao-traveller-identification-programme-trip/
CATEGORIES:Exhibitions
ATTACH;FMTTYPE=image/jpeg:https://fosterfreeman.com/wp-content/uploads/2022/07/trip2022.jpg
END:VEVENT
BEGIN:VEVENT
DTSTART;TZID=UTC:20220918T000000
DTEND;TZID=UTC:20220921T235959
DTSTAMP:20260421T115329
CREATED:20220729T104853Z
LAST-MODIFIED:20220926T174923Z
UID:12964-1663459200-1663804799@fosterfreeman.com
SUMMARY:ENFSI Paint and Glass Working Group
DESCRIPTION:Rome\, Italy\n\n\n\n\n\n\n\nCurrently more than 40 forensic science agencies from about 26 European countries are participating in the European Paint & Glass working group activities. There is also co-operation with the RCMP (Canada) and the FBI (USA). \n\n\n\n\nVisit Event Website
URL:https://fosterfreeman.com/event/enfsi-partner-meeting/
CATEGORIES:Exhibitions
ATTACH;FMTTYPE=image/jpeg:https://fosterfreeman.com/wp-content/uploads/2022/07/enfsi.jpg
END:VEVENT
BEGIN:VEVENT
DTSTART;TZID=UTC:20220921T000000
DTEND;TZID=UTC:20220923T235959
DTSTAMP:20260421T115329
CREATED:20220729T105517Z
LAST-MODIFIED:20220926T174906Z
UID:12976-1663718400-1663977599@fosterfreeman.com
SUMMARY:ENFSI ENFHEX Working Group
DESCRIPTION:Zagreb\, Croatia\n\n\n\n\n\n\n\nENFHEX is an Expert Working Group of the European Network of Forensic Science Institutes (ENFSI) and supports the aims and objectives of ENFSI in the area of Forensic Handwriting Examination. The activities of ENFHEX will be directed to: \n\n\n\nExchange of information and expertiseSupport on technical issuesPromoting quality assurance\, proficiency testing and collaborative exercisesHarmonisation of examination procedures and techniquesCo-operation in research and development activities\n\n\n\n\nVisit Event Website
URL:https://fosterfreeman.com/event/enfsi-enfhex/
CATEGORIES:Exhibitions
ATTACH;FMTTYPE=image/jpeg:https://fosterfreeman.com/wp-content/uploads/2022/07/enfsi.jpg
END:VEVENT
BEGIN:VEVENT
DTSTART;TZID=UTC:20220927T000000
DTEND;TZID=UTC:20220928T235959
DTSTAMP:20260421T115329
CREATED:20220729T105819Z
LAST-MODIFIED:20220926T174820Z
UID:12984-1664236800-1664409599@fosterfreeman.com
SUMMARY:ENFSI EDE Working Group
DESCRIPTION:The European Document Experts Working Group (EDEWG) supports the aims and objectives of ENFSI in the area of Forensic Document Examination. \n\n\n\nThe activities of EDEWG will be directed towards: \n\n\n\nExchange of information and expertiseSupport on technical issuesPromoting quality assurance\, proficiency testing and collaborative exercisesHarmonisation of examination procedures and techniquesCo-operation in research and development\n\n\n\n\nVisit Event Website
URL:https://fosterfreeman.com/event/enfsi-edewg/
CATEGORIES:Exhibitions
ATTACH;FMTTYPE=image/jpeg:https://fosterfreeman.com/wp-content/uploads/2022/07/enfsi.jpg
END:VEVENT
BEGIN:VEVENT
DTSTART;TZID=UTC:20220927T000000
DTEND;TZID=UTC:20220930T235959
DTSTAMP:20260421T115329
CREATED:20220729T111342Z
LAST-MODIFIED:20220926T174758Z
UID:12997-1664236800-1664582399@fosterfreeman.com
SUMMARY:ENFSI DNA Working Group
DESCRIPTION:Lisbon\, Portugal\n\n\n\n\n\n\n\nThe ENFSI Expert DNA Working Group supports the aims and objectives of the European Network of Forensic Science Institutes (ENFSI) in the area of DNA casework analysis. \n\n\n\nThe ENFSI DNA Working Group provides a forum for the validation\, introduction and improvement of DNA analysis in casework. It considers all aspects of DNA case analysis and case reporting. Focusing on casework requirements\, the group aims to: \n\n\n\nPromote quality management systems and the development of best practices laid down in manuals (BPMs) and guidelines.Develop uniform guidelines which members can conform to and achieve.Exchange information and expertise.Collaborate with regard to the reporting and interpretation of DNA evidence and develop\, improve the interpretation of DNA analyses.Promote and collaborate with research activities amongst members and together with industry and academic partners.Support colleagues by providing education and training.Assess the need and create pan-European intelligence/knowledge databases.Implement and disseminate newly developed methods.Support the organization of collaborative exercises in all aspects of forensic DNA casework\, aiming to harmonize procedures within European laboratories.\n\n\n\n\nVisit Event Website
URL:https://fosterfreeman.com/event/enfsi-dna-working-group/
CATEGORIES:Exhibitions
ATTACH;FMTTYPE=image/jpeg:https://fosterfreeman.com/wp-content/uploads/2022/07/enfsi.jpg
END:VEVENT
END:VCALENDAR