BEGIN:VCALENDAR
VERSION:2.0
PRODID:-//Foster+Freeman - ECPv6.15.18//NONSGML v1.0//EN
CALSCALE:GREGORIAN
METHOD:PUBLISH
X-WR-CALNAME:Foster+Freeman
X-ORIGINAL-URL:https://fosterfreeman.com
X-WR-CALDESC:Events for Foster+Freeman
REFRESH-INTERVAL;VALUE=DURATION:PT1H
X-Robots-Tag:noindex
X-PUBLISHED-TTL:PT1H
BEGIN:VTIMEZONE
TZID:UTC
BEGIN:STANDARD
TZOFFSETFROM:+0000
TZOFFSETTO:+0000
TZNAME:UTC
DTSTART:20210101T000000
END:STANDARD
END:VTIMEZONE
BEGIN:VEVENT
DTSTART;TZID=UTC:20220622T000000
DTEND;TZID=UTC:20220622T235959
DTSTAMP:20260421T174703
CREATED:20220613T131022Z
LAST-MODIFIED:20220613T132514Z
UID:9224-1655856000-1655942399@fosterfreeman.com
SUMMARY:Public Security Exhibition (PSE) Warsaw
DESCRIPTION:Visit Event Website
URL:https://fosterfreeman.com/event/public-security-exhibition-pse-warsaw/
CATEGORIES:Exhibitions
ATTACH;FMTTYPE=image/png:https://fosterfreeman.com/wp-content/uploads/2022/01/PSE-2022-2.png
END:VEVENT
END:VCALENDAR