BEGIN:VCALENDAR
VERSION:2.0
PRODID:-//Foster+Freeman - ECPv6.15.18//NONSGML v1.0//EN
CALSCALE:GREGORIAN
METHOD:PUBLISH
X-WR-CALNAME:Foster+Freeman
X-ORIGINAL-URL:https://fosterfreeman.com
X-WR-CALDESC:Events for Foster+Freeman
REFRESH-INTERVAL;VALUE=DURATION:PT1H
X-Robots-Tag:noindex
X-PUBLISHED-TTL:PT1H
BEGIN:VTIMEZONE
TZID:Europe/London
BEGIN:DAYLIGHT
TZOFFSETFROM:+0000
TZOFFSETTO:+0100
TZNAME:BST
DTSTART:20250330T010000
END:DAYLIGHT
BEGIN:STANDARD
TZOFFSETFROM:+0100
TZOFFSETTO:+0000
TZNAME:GMT
DTSTART:20251026T010000
END:STANDARD
BEGIN:DAYLIGHT
TZOFFSETFROM:+0000
TZOFFSETTO:+0100
TZNAME:BST
DTSTART:20260329T010000
END:DAYLIGHT
BEGIN:STANDARD
TZOFFSETFROM:+0100
TZOFFSETTO:+0000
TZNAME:GMT
DTSTART:20261025T010000
END:STANDARD
BEGIN:DAYLIGHT
TZOFFSETFROM:+0000
TZOFFSETTO:+0100
TZNAME:BST
DTSTART:20270328T010000
END:DAYLIGHT
BEGIN:STANDARD
TZOFFSETFROM:+0100
TZOFFSETTO:+0000
TZNAME:GMT
DTSTART:20271031T010000
END:STANDARD
END:VTIMEZONE
BEGIN:VEVENT
DTSTART;TZID=Europe/London:20260520T000000
DTEND;TZID=Europe/London:20260522T235959
DTSTAMP:20260421T133945
CREATED:20260420T093554Z
LAST-MODIFIED:20260420T153546Z
UID:25130-1779235200-1779494399@fosterfreeman.com
SUMMARY:GPEC Leipzig
DESCRIPTION:Leipzig\, Germany\n\n\n\n\n\n\n\n\n\n\n\n\n\n\n\n\nThe closed GPEC (GPEC first event in 2000) – the national and international information\, innovation and networking platform for decision-makers\, procurers\, technicians\, trainers\, trainers\, end users and providers – which covers all subject and equipment areas of internal security\, law enforcement\, civil protection and homeland security – will be held again on 20 – 22 May 2026 with the trade fair\, training and testing areas\, specialist conferences and official working group meetings in of the Leipzig Trade Fair. The GPEC is concerned with supporting education and training\, information exchange\, civil-military cooperation as well as interministerial\, national and international cooperation \n\n\n\n\nVisit Event Website\n\n\n\n\n\n\n\n\n\n\n\n\n\n\n\n  Who is attending? \n\nRegional Sales Managers – Owen Lang\nOwen is based in the UK and is responsible for sales across Africa and parts of the Middle East. He …\nRead More\n\nRegional Sales Managers – Jan Van De Sand\nGet In Touch with us! Jan Van De Sand Regional Sales Manager Germany – Central and Eastern Europe German – …\nRead More\n  \n\n\n\n\n\n  What equipment will we be showcasing? \n\n\nCrime-lite® 82S PRO\nGold-Standard Forensic Light Source Technology for Crime Scene and Lab: Detect more evidence using Crime-lite 82S PRO light sources\, a powerful upgrade to our best-in-class forensic search tools.\nRead More\n\nCrime-lite® AUTO\nForensic imaging technology meets powerful multi-spectral illumination in this complete solution to the search\, detection\, and capture of evidence.\nRead More\n\nCrime-lite® LASER\nThe Crime-lite LASER offers powerful Blue 447nm and Green 20nm LASER illumination in handheld forensic devices with best-in-class Crime-lite technology.\nRead More\n\nCrime-lite® ML PRO 2\nA simple and intuitive imaging solution\, the Crime-lite ML PRO 2 is a semi-automated evidence screening tool built to meet the demands of busy forensic laboratories tasked with processing a\nRead More\n\nCrime-lite® X\n1 light source\, 175x illumination wavebands. The unique Crime-lite X is a complete ALS kit in a single light source.\nRead More
URL:https://fosterfreeman.com/event/gpec-leipzig/
CATEGORIES:Exhibitions,Upcoming Events
ATTACH;FMTTYPE=image/png:https://fosterfreeman.com/wp-content/uploads/2026/04/Screenshot-2026-04-20-095645.png
END:VEVENT
BEGIN:VEVENT
DTSTART;TZID=Europe/London:20260601T000000
DTEND;TZID=Europe/London:20260603T235959
DTSTAMP:20260421T133945
CREATED:20260119T160204Z
LAST-MODIFIED:20260226T103933Z
UID:24703-1780272000-1780531199@fosterfreeman.com
SUMMARY:High Security Printing Latin America
DESCRIPTION:Guatemala\n\n\n\n\n\n\n\n\n\n\nFrom the Organisers: \n\n\n\nThe latest technologies and techniques in the production and issue of banknotes\, ePassports\, ID cards\, visas and other secure documents across Latin America. \n\n\n\nThe High Security Printing™ conferences are annual events with a specficially regional focus.  They cover government-specified and issued documents\,including currency\, fiduciary documents\, excise stamps\, ID cards\, e-passports\, visas\, vehicle documents and licences\, with a particular emphasis on banknotes and emerging technologies for ID and travel documents. Running in tandem with each event is a trade exhibition of 30-40 companies supplying technologies and systems for these sectors. \n\n\n\n\nVisit Event Website\n\n\n\n\n\n\n\n\n\n\nWhat equipment will we be showcasing?  \n\n\n\n\n\n\n\n\n\nVSC 9000The Ultimate QDE Workstation \n\n\n\n\nRead More\n\n\n\n\n\n\n\n\n\n\n\n\n\n\n\n\n\n\n\n\n\n\nWho’s attending? \n\n\n\n\n\n\n\n\n\nEstefania GarciaApplications Specialist
URL:https://fosterfreeman.com/event/high-security-printing-latin-america-3/
CATEGORIES:Exhibitions,Upcoming Events
ATTACH;FMTTYPE=image/png:https://fosterfreeman.com/wp-content/uploads/2026/01/Screenshot-2026-02-24-160353.png
END:VEVENT
END:VCALENDAR