BEGIN:VCALENDAR
VERSION:2.0
PRODID:-//Foster+Freeman - ECPv6.15.18//NONSGML v1.0//EN
CALSCALE:GREGORIAN
METHOD:PUBLISH
X-ORIGINAL-URL:https://fosterfreeman.com
X-WR-CALDESC:Events for Foster+Freeman
REFRESH-INTERVAL;VALUE=DURATION:PT1H
X-Robots-Tag:noindex
X-PUBLISHED-TTL:PT1H
BEGIN:VTIMEZONE
TZID:Europe/London
BEGIN:DAYLIGHT
TZOFFSETFROM:+0000
TZOFFSETTO:+0100
TZNAME:BST
DTSTART:20240331T010000
END:DAYLIGHT
BEGIN:STANDARD
TZOFFSETFROM:+0100
TZOFFSETTO:+0000
TZNAME:GMT
DTSTART:20241027T010000
END:STANDARD
BEGIN:DAYLIGHT
TZOFFSETFROM:+0000
TZOFFSETTO:+0100
TZNAME:BST
DTSTART:20250330T010000
END:DAYLIGHT
BEGIN:STANDARD
TZOFFSETFROM:+0100
TZOFFSETTO:+0000
TZNAME:GMT
DTSTART:20251026T010000
END:STANDARD
BEGIN:DAYLIGHT
TZOFFSETFROM:+0000
TZOFFSETTO:+0100
TZNAME:BST
DTSTART:20260329T010000
END:DAYLIGHT
BEGIN:STANDARD
TZOFFSETFROM:+0100
TZOFFSETTO:+0000
TZNAME:GMT
DTSTART:20261025T010000
END:STANDARD
BEGIN:DAYLIGHT
TZOFFSETFROM:+0000
TZOFFSETTO:+0100
TZNAME:BST
DTSTART:20270328T010000
END:DAYLIGHT
BEGIN:STANDARD
TZOFFSETFROM:+0100
TZOFFSETTO:+0000
TZNAME:GMT
DTSTART:20271031T010000
END:STANDARD
END:VTIMEZONE
BEGIN:VEVENT
DTSTART;TZID=Europe/London:20251118T000000
DTEND;TZID=Europe/London:20251121T235959
DTSTAMP:20260422T031059
CREATED:20250630T104319Z
LAST-MODIFIED:20260119T150135Z
UID:23805-1763424000-1763769599@fosterfreeman.com
SUMMARY:Milipol Paris 2025
DESCRIPTION:Paris\, France\n\n\n\n\n\n\n\n\n\n\nMilipol Paris\, the leading event for Homeland security and safety\, is organised every two years under the aegis of the French Ministry for the Interior\, in partnership with several national and international institutions / governmental bodies. In 2023\, the event gathered over 1\,100 exhibitors and over 30\,000 visitors. \n\n\n\n\nVisit Event Website\n\n\n\n\n\n\n\n\n\n\nWhat equipment will we be showcasing?  \n\n\n\n\n\n\n\n\n\nCrime-lite AUTOThe Complete CSI Solution \n\n\n\n\nRead More\n\n\n\n\n\n\n\n\n\n\nCrime-lite XHandheld\, Multi-Spectral FLS \n\n\n\n\nRead More\n\n\n\n\n\n\n\n\n\n\nCrime-lite 82S ProHandheld FLS \n\n\n\n\nRead more\n\n\n\n\n\n\n\n\n\n\nML PRO 2Laboratory Evidence Screening \n\n\n\n\nRead more\n\n\n\n\n\n\n\n\n\n\n\n\n\n\nWho’s attending? \n\n\n\n\n\n\n\n\n\nRomain Le BloaRegional Sales Manager
URL:https://fosterfreeman.com/event/milipol-paris-2025/
CATEGORIES:Exhibitions
ATTACH;FMTTYPE=image/png:https://fosterfreeman.com/wp-content/uploads/2025/06/Screenshot-2025-06-30-114501.png
END:VEVENT
BEGIN:VEVENT
DTSTART;TZID=Europe/London:20251127T000000
DTEND;TZID=Europe/London:20251128T235959
DTSTAMP:20260422T031059
CREATED:20250630T103743Z
LAST-MODIFIED:20260224T154825Z
UID:23802-1764201600-1764374399@fosterfreeman.com
SUMMARY:ENFSI Fingerprints 2025
DESCRIPTION:Barcelona\, Spain\n\n\n\n\n\n\n\n\n\n\nThe European Fingerprint Working Group (EFP-WG) is dedicated to advancing excellence in fingerprint detection\, imaging\, and comparison across Europe. Established in 2001\, the group fosters professional development through regular meetings\, hands-on workshops\, and the sharing of expertise. With two specialised subgroups\, Detection and Identification\, the EFP-WG supports collaborative research\, promotes innovation\, and drives quality standards through initiatives such as the Best Practice Manual and proficiency testing. Guided by an elected Steering Committee\, the group offers a strong platform for networking\, training\, and the continuous improvement of fingerprint science in forensic practice. \n\n\n\n\nVisit Event Website\n\n\n\n\n\n\n\n\n\n\nWhat equipment will we be showcasing?  \n\n\n\n\n\n\n\n\n\nCrime-lite AUTOThe Complete CSI Solution \n\n\n\n\nRead More\n\n\n\n\n\n\n\n\n\n\nCrime-lite XHandheld\, Multi-Spectral FLS \n\n\n\n\nRead More\n\n\n\n\n\n\n\n\n\n\nCrime-lite 82S ProHandheld FLS \n\n\n\n\nRead more\n\n\n\n\n\n\n\n\n\n\nML PRO 2Laboratory Evidence Screening \n\n\n\n\nRead more\n\n\n\n\n\n\n\n\n\n\n\n\n\n\nWho’s attending? \n\n\n\n\n\n\n\n\n\nPatrick Van VilsterenRegional Sales Manager \n\n\n\n\n\n\n\n\n\nPete BenwellRegional Sales Manager \n\n\n\n\n\n\n\n\n\nDan FreemanApplications Specialist
URL:https://fosterfreeman.com/event/enfsi-fingerprints-2025/
CATEGORIES:Exhibitions
ATTACH;FMTTYPE=image/png:https://fosterfreeman.com/wp-content/uploads/2023/07/enfsi-logo.png
END:VEVENT
BEGIN:VEVENT
DTSTART;TZID=Europe/London:20251201T000000
DTEND;TZID=Europe/London:20251203T235959
DTSTAMP:20260422T031059
CREATED:20250513T084605Z
LAST-MODIFIED:20260119T150148Z
UID:23595-1764547200-1764806399@fosterfreeman.com
SUMMARY:High Security Printing Asia
DESCRIPTION:Kuala Lumpur\, Malaysia\n\n\n\n\n\n\n\n\n\n\nFrom the organisers:  \n\n\n\nHigh Security Printing™ Asia focuses on government-specified and issued documents\, including currency\, fiduciary documents\, excise stamps\, ID cards\, e-passports\, visas\, vehicle documents and licences\, with a particular emphasis on banknotes and the emerging technologies for ID and travel documents. As in previous events\, speakers will be specialists in their field providing technical presentations\, including some regional case studies. Running in tandem with the event will be a trade exhibition of approximately 30 exhibitors working in the currency\, e-passport\, smart card\, authentication and related industries. \n\n\n\n\nVisit Event Website\n\n\n\n\n\n\n\n\n\n\nWhat equipment will we be showcasing?  \n\n\n\n\n\n\n\n\n\nVSC 900Mid-Range QDE Workstation \n\n\n\n\nRead More\n\n\n\n\n\n\n\n\n\n\nVSC 90Our Latest QDE Workstation \n\n\n\n\nRead More\n\n\n\n\n\n\n\n\n\n\nVSC 9000The Ultimate QDE Workstation \n\n\n\n\nRead More\n\n\n\n\n\n\n\n\n\n\n\n\n\n\nWho’s attending? \n\n\n\n\n\n\n\n\n\nLeoni MimnaghApplications Specialist
URL:https://fosterfreeman.com/event/high-security-printing-asia-2/
CATEGORIES:Exhibitions
ATTACH;FMTTYPE=image/jpeg:https://fosterfreeman.com/wp-content/uploads/2025/05/HSP-Asia.jpg
END:VEVENT
BEGIN:VEVENT
DTSTART;TZID=Europe/London:20260209T000000
DTEND;TZID=Europe/London:20260211T235959
DTSTAMP:20260422T031059
CREATED:20260119T150317Z
LAST-MODIFIED:20260410T100834Z
UID:24683-1770595200-1770854399@fosterfreeman.com
SUMMARY:High Security Printing EMEA
DESCRIPTION:Rabat\, Morocco\n\n\n\n\n\n\n\n\n\n\nFrom the organisers:  \n\n\n\nHigh Security Printing™ focuses on government-specified and issued documents\, including currency\, fiduciary documents\, excise stamps\, ID cards\, e-passports\, visas\, vehicle documents and licences\, with a particular emphasis on banknotes and the emerging technologies for ID and travel documents. As in previous events\, speakers will be specialists in their field providing technical presentations\, including some regional case studies. Running in tandem with the event will be a trade exhibition of approximately 30 exhibitors working in the currency\, e-passport\, smart card\, authentication and related industries. \n\n\n\n\nVisit Event Website\n\n\n\n\n\n\n\n\n\n\nWhat equipment will we be showcasing?  \n\n\n\n\n\n\n\n\n\nVSC 900Mid-Range QDE Workstation \n\n\n\n\nRead More\n\n\n\n\n\n\n\n\n\n\nVSC 90Our Latest QDE Workstation \n\n\n\n\nRead More\n\n\n\n\n\n\n\n\n\n\nVSC 9000The Ultimate QDE Workstation \n\n\n\n\nRead More\n\n\n\n\n\n\n\n\n\n\n\n\n\n\nWho’s attending? \n\n\n\n\n\n\n\n\n\nIlaria De MarchRegional Sales Manager
URL:https://fosterfreeman.com/event/high-security-printing-emea/
CATEGORIES:Exhibitions
END:VEVENT
BEGIN:VEVENT
DTSTART;TZID=Europe/London:20260310T000000
DTEND;TZID=Europe/London:20260312T235959
DTSTAMP:20260422T031059
CREATED:20260119T150835Z
LAST-MODIFIED:20260410T100846Z
UID:24686-1773100800-1773359999@fosterfreeman.com
SUMMARY:Security and Policing 2026
DESCRIPTION:Farnborough\, United Kingdom\n\n\n\n\n\n\n\n\n\n\nSecurity & Policing\, the UK Government’s official global security event\, will return to the Farnborough International Exhibition and Conference Centre from 10-12 March 2026. Hosted by the Home Office’s Joint Security & Resilience Centre (JSaRC)\, the event provides a premier platform for engaging with top UK suppliers\, government officials\, and senior decision-makers in law enforcement and security. Attendance is by invitation only\, with all visitors and exhibitors requiring Home Office approval. \n\n\n\n\nVisit Event Website\n\n\n\n\n\n\n\n\n\n\nWhat equipment will we be showcasing?  \n\n\n\n\n\n\n\n\n\nCrime-lite AUTOThe Complete CSI Solution \n\n\n\n\nRead More\n\n\n\n\n\n\n\n\n\n\nCrime-lite XHandheld\, Multi-Spectral FLS \n\n\n\n\nRead More\n\n\n\n\n\n\n\n\n\n\nCrime-lite 82S ProHandheld FLS \n\n\n\n\nRead more\n\n\n\n\n\n\n\n\n\n\nVSC 9000The Ultimate QDE Workstation \n\n\n\n\nRead more\n\n\n\n\n\n\n\n\n\n\nWho’s attending? \n\n\n\n\n\n\n\n\n\nDarren SedgwickRegional Sales Manager \n\n\n\n\n\n\n\n\n\nAlistair WilsonInternational Sales Director \n\n\n\n\n\n\n\n\n\nPete BenwellRegional Sales Manager
URL:https://fosterfreeman.com/event/security-and-policing-2026/
CATEGORIES:Exhibitions
ATTACH;FMTTYPE=image/png:https://fosterfreeman.com/wp-content/uploads/2026/01/A9gwsrl2_1r0gsps_o8k.png
END:VEVENT
BEGIN:VEVENT
DTSTART;TZID=Europe/London:20260414T000000
DTEND;TZID=Europe/London:20260416T235959
DTSTAMP:20260422T031059
CREATED:20260119T151409Z
LAST-MODIFIED:20260420T075249Z
UID:24693-1776124800-1776383999@fosterfreeman.com
SUMMARY:World Border Security Congress 2026
DESCRIPTION:Vienna\, Austria\n\n\n\n\n\n\n\n\n\n\nThe World Border Security Congress is a prestigious three-day event where senior border officials gather to discuss and debate current and future policies\, implementation challenges\, and emerging technologies that enhance border security and migration management. \n\n\n\n\nVisit Event Website\n\n\n\n\n\n\n\n\n\n\nWhat equipment will we be showcasing?  \n\n\n\n\n\n\n\n\n\nVSC 9000The Ultimate QDE Workstation \n\n\n\n\nRead More\n\n\n\n\n\n\n\n\n\n\nVSC 900Mid-Range QDE Workstation \n\n\n\n\nRead More\n\n\n\n\n\n\n\n\n\n\nVSC NOMAXPortable Document Inspection \n\n\n\n\nRead More\n\n\n\n\n\n\n\n\n\n\n\n\n\n\nWho’s attending? \n\n\n\n\n\n\n\n\n\nAlistair WilsonInternational Sales Director \n\n\n\n\n\n\n\n\n\nPete BenwellRegional Sales Manager \n\n\n\n\n\n\n\n\n\nLeoni MimnaghApplications Specialist
URL:https://fosterfreeman.com/event/world-border-security-congress-2026/
CATEGORIES:Exhibitions
ATTACH;FMTTYPE=image/webp:https://fosterfreeman.com/wp-content/uploads/2026/01/WBSC-Logo.jpg.webp
END:VEVENT
BEGIN:VEVENT
DTSTART;TZID=Europe/London:20260513T000000
DTEND;TZID=Europe/London:20260515T235959
DTSTAMP:20260422T031059
CREATED:20260119T152454Z
LAST-MODIFIED:20260218T112204Z
UID:24700-1778630400-1778889599@fosterfreeman.com
SUMMARY:World Police Summit 2026
DESCRIPTION:Dubai\, UAE\n\n\n\n\n\n\n\n\n\n\nIn a world of rapid technological advancements and evolving threats\, the World Police Summit 2026 stands as a crucial platform for global law enforcement collaboration. \n\n\n\nOrganized by Dubai Police\, this premier event unites leading forces such as the FBI\, NYPD\, INTERPOL\, Australian Federal Police\, Korean National Police Agency\, and the Metropolitan Police\, representing over 138 countries. Whether your focus is on policing technology\, cybersecurity\, commercial security\, or road safety\, the summit offers unparalleled opportunities for all attendees. \n\n\n\n\nVisit Event Website\n\n\n\n\n\n\n\n\n\n\nWhat equipment will we be showcasing?  \n\n\n\n\n\n\n\n\n\nCrime-lite AUTOThe Complete CSI Solution \n\n\n\n\nRead More\n\n\n\n\n\n\n\n\n\n\nCrime-lite XHandheld\, Multi-Spectral FLS \n\n\n\n\nRead More\n\n\n\n\n\n\n\n\n\n\nCrime-lite 82S ProHandheld FLS \n\n\n\n\nRead more\n\n\n\n\n\n\n\n\n\n\nVSC 9000The Ultimate QDE Workstation \n\n\n\n\nRead more\n\n\n\n\n\n\n\n\n\n\nWho’s attending? \n\n\n\n\n\n\n\n\n\nLeoni MimnaghApplications Specialist \n\n\n\n\n\n\n\n\n\nLaura DoddApplications Specialist \n\n\n\n\n\n\n\n\n\nPete BenwellRegional Sales Manager
URL:https://fosterfreeman.com/event/world-police-summit-2026/
CATEGORIES:Exhibitions,Upcoming Events
END:VEVENT
BEGIN:VEVENT
DTSTART;TZID=Europe/London:20260520T000000
DTEND;TZID=Europe/London:20260522T235959
DTSTAMP:20260422T031059
CREATED:20260420T093554Z
LAST-MODIFIED:20260420T153546Z
UID:25130-1779235200-1779494399@fosterfreeman.com
SUMMARY:GPEC Leipzig
DESCRIPTION:Leipzig\, Germany\n\n\n\n\n\n\n\n\n\n\n\n\n\n\n\n\nThe closed GPEC (GPEC first event in 2000) – the national and international information\, innovation and networking platform for decision-makers\, procurers\, technicians\, trainers\, trainers\, end users and providers – which covers all subject and equipment areas of internal security\, law enforcement\, civil protection and homeland security – will be held again on 20 – 22 May 2026 with the trade fair\, training and testing areas\, specialist conferences and official working group meetings in of the Leipzig Trade Fair. The GPEC is concerned with supporting education and training\, information exchange\, civil-military cooperation as well as interministerial\, national and international cooperation \n\n\n\n\nVisit Event Website\n\n\n\n\n\n\n\n\n\n\n\n\n\n\n\n  Who is attending? \n\nRegional Sales Managers – Owen Lang\nOwen is based in the UK and is responsible for sales across Africa and parts of the Middle East. He …\nRead More\n\nRegional Sales Managers – Jan Van De Sand\nGet In Touch with us! Jan Van De Sand Regional Sales Manager Germany – Central and Eastern Europe German – …\nRead More\n  \n\n\n\n\n\n  What equipment will we be showcasing? \n\n\nCrime-lite® 82S PRO\nGold-Standard Forensic Light Source Technology for Crime Scene and Lab: Detect more evidence using Crime-lite 82S PRO light sources\, a powerful upgrade to our best-in-class forensic search tools.\nRead More\n\nCrime-lite® AUTO\nForensic imaging technology meets powerful multi-spectral illumination in this complete solution to the search\, detection\, and capture of evidence.\nRead More\n\nCrime-lite® LASER\nThe Crime-lite LASER offers powerful Blue 447nm and Green 20nm LASER illumination in handheld forensic devices with best-in-class Crime-lite technology.\nRead More\n\nCrime-lite® ML PRO 2\nA simple and intuitive imaging solution\, the Crime-lite ML PRO 2 is a semi-automated evidence screening tool built to meet the demands of busy forensic laboratories tasked with processing a\nRead More\n\nCrime-lite® X\n1 light source\, 175x illumination wavebands. The unique Crime-lite X is a complete ALS kit in a single light source.\nRead More
URL:https://fosterfreeman.com/event/gpec-leipzig/
CATEGORIES:Exhibitions,Upcoming Events
ATTACH;FMTTYPE=image/png:https://fosterfreeman.com/wp-content/uploads/2026/04/Screenshot-2026-04-20-095645.png
END:VEVENT
BEGIN:VEVENT
DTSTART;TZID=Europe/London:20260601T000000
DTEND;TZID=Europe/London:20260603T235959
DTSTAMP:20260422T031059
CREATED:20260119T160204Z
LAST-MODIFIED:20260226T103933Z
UID:24703-1780272000-1780531199@fosterfreeman.com
SUMMARY:High Security Printing Latin America
DESCRIPTION:Guatemala\n\n\n\n\n\n\n\n\n\n\nFrom the Organisers: \n\n\n\nThe latest technologies and techniques in the production and issue of banknotes\, ePassports\, ID cards\, visas and other secure documents across Latin America. \n\n\n\nThe High Security Printing™ conferences are annual events with a specficially regional focus.  They cover government-specified and issued documents\,including currency\, fiduciary documents\, excise stamps\, ID cards\, e-passports\, visas\, vehicle documents and licences\, with a particular emphasis on banknotes and emerging technologies for ID and travel documents. Running in tandem with each event is a trade exhibition of 30-40 companies supplying technologies and systems for these sectors. \n\n\n\n\nVisit Event Website\n\n\n\n\n\n\n\n\n\n\nWhat equipment will we be showcasing?  \n\n\n\n\n\n\n\n\n\nVSC 9000The Ultimate QDE Workstation \n\n\n\n\nRead More\n\n\n\n\n\n\n\n\n\n\n\n\n\n\n\n\n\n\n\n\n\n\nWho’s attending? \n\n\n\n\n\n\n\n\n\nEstefania GarciaApplications Specialist
URL:https://fosterfreeman.com/event/high-security-printing-latin-america-3/
CATEGORIES:Exhibitions,Upcoming Events
ATTACH;FMTTYPE=image/png:https://fosterfreeman.com/wp-content/uploads/2026/01/Screenshot-2026-02-24-160353.png
END:VEVENT
END:VCALENDAR