BEGIN:VCALENDAR
VERSION:2.0
PRODID:-//Foster+Freeman - ECPv6.15.18//NONSGML v1.0//EN
CALSCALE:GREGORIAN
METHOD:PUBLISH
X-ORIGINAL-URL:https://fosterfreeman.com
X-WR-CALDESC:Events for Foster+Freeman
REFRESH-INTERVAL;VALUE=DURATION:PT1H
X-Robots-Tag:noindex
X-PUBLISHED-TTL:PT1H
BEGIN:VTIMEZONE
TZID:Europe/London
BEGIN:DAYLIGHT
TZOFFSETFROM:+0000
TZOFFSETTO:+0100
TZNAME:BST
DTSTART:20220327T010000
END:DAYLIGHT
BEGIN:STANDARD
TZOFFSETFROM:+0100
TZOFFSETTO:+0000
TZNAME:GMT
DTSTART:20221030T010000
END:STANDARD
BEGIN:DAYLIGHT
TZOFFSETFROM:+0000
TZOFFSETTO:+0100
TZNAME:BST
DTSTART:20230326T010000
END:DAYLIGHT
BEGIN:STANDARD
TZOFFSETFROM:+0100
TZOFFSETTO:+0000
TZNAME:GMT
DTSTART:20231029T010000
END:STANDARD
BEGIN:DAYLIGHT
TZOFFSETFROM:+0000
TZOFFSETTO:+0100
TZNAME:BST
DTSTART:20240331T010000
END:DAYLIGHT
BEGIN:STANDARD
TZOFFSETFROM:+0100
TZOFFSETTO:+0000
TZNAME:GMT
DTSTART:20241027T010000
END:STANDARD
END:VTIMEZONE
BEGIN:VEVENT
DTSTART;TZID=Europe/London:20231025T000000
DTEND;TZID=Europe/London:20231025T235959
DTSTAMP:20260421T143550
CREATED:20230727T080602Z
LAST-MODIFIED:20240418T142217Z
UID:17770-1698192000-1698278399@fosterfreeman.com
SUMMARY:Webinar - CBRNE x CSI
DESCRIPTION:Recognising the contributions that forensic science makes to the criminal justice system \n\n\n\n\n\n\n\n\n\n\n\n\nWatch Now\n\n\n\n\n\n\n\n\n\n\n\n\n\n\nWhat will we be covering?\n\n\n\n\n\nIn this webinar we will explore the military and defence applications of forensic technology. We will look at how forensic technology can be and is used in the military. We will discuss the different applications that forensic technologies for defence purposes.  \n\n\n\nWe will look at the theory behind why forensic technology is used in defence and demonstrate how our products can help in military and defence.  \n\n\n\n\n\n\nhttps://vimeo.com/871455853\n\n\n\n\n\n\n\n\n\n\n\n\nWhat equipment will we be showcasing? \n\n\n\n\n\n\n\n\n\n\n\nCrime-lite® AUTO\n\n\n\nComplete solution to the search\, detection\, and capture of evidence. \n\n\n\n\nRead More\n\n\n\n\n\n\n\n\n\n\nRECOVER LFT\n\n\n\nRECOVER LFT is a cutting-edge chemical vapor fuming process to develop fingerprints on a range of difficult surfaces \n\n\n\n\nRead More\n\n\n\n\n\n\n\n\n\n\nCrime-lite® LASER\n\n\n\nFor the detection and examination of every last trace of forensic evidence \n\n\n\n\nRead More\n\n\n\n\n\n\n\n\n\n\n\n\nPresenters\n\n\n\n\n\n\n\n\n\n\n\nRoberto KingVP of Product Management \n\n\n\n\n\n\n\n\n\nDan FreemanApplication Specialist \n\n\n\n\n\n\n\n\n\nLaura DoddApplication Specialist \n\n\n\n\n\n\n\n\n\nCalypso HarveyApplication Specialist \n\n\n\n\n\n\n\n\n\nShare this event:
URL:https://fosterfreeman.com/event/cbrne-x-csi/
CATEGORIES:Archive,Webinars
ATTACH;FMTTYPE=image/jpeg:https://fosterfreeman.com/wp-content/uploads/2022/06/CBRNE-examine-weapons.jpg
END:VEVENT
END:VCALENDAR