BEGIN:VCALENDAR
VERSION:2.0
PRODID:-//Foster+Freeman - ECPv6.15.18//NONSGML v1.0//EN
CALSCALE:GREGORIAN
METHOD:PUBLISH
X-WR-CALNAME:Foster+Freeman
X-ORIGINAL-URL:https://fosterfreeman.com
X-WR-CALDESC:Events for Foster+Freeman
REFRESH-INTERVAL;VALUE=DURATION:PT1H
X-Robots-Tag:noindex
X-PUBLISHED-TTL:PT1H
BEGIN:VTIMEZONE
TZID:Europe/London
BEGIN:DAYLIGHT
TZOFFSETFROM:+0000
TZOFFSETTO:+0100
TZNAME:BST
DTSTART:20230326T010000
END:DAYLIGHT
BEGIN:STANDARD
TZOFFSETFROM:+0100
TZOFFSETTO:+0000
TZNAME:GMT
DTSTART:20231029T010000
END:STANDARD
BEGIN:DAYLIGHT
TZOFFSETFROM:+0000
TZOFFSETTO:+0100
TZNAME:BST
DTSTART:20240331T010000
END:DAYLIGHT
BEGIN:STANDARD
TZOFFSETFROM:+0100
TZOFFSETTO:+0000
TZNAME:GMT
DTSTART:20241027T010000
END:STANDARD
BEGIN:DAYLIGHT
TZOFFSETFROM:+0000
TZOFFSETTO:+0100
TZNAME:BST
DTSTART:20250330T010000
END:DAYLIGHT
BEGIN:STANDARD
TZOFFSETFROM:+0100
TZOFFSETTO:+0000
TZNAME:GMT
DTSTART:20251026T010000
END:STANDARD
END:VTIMEZONE
BEGIN:VEVENT
DTSTART;TZID=Europe/London:20240327T000000
DTEND;TZID=Europe/London:20240327T235959
DTSTAMP:20260422T232657
CREATED:20240116T121435Z
LAST-MODIFIED:20240531T151214Z
UID:19033-1711497600-1711583999@fosterfreeman.com
SUMMARY:Webinar - Passport Control
DESCRIPTION:Watch Now\n\n\n\n\n\n\n\n\n\n\n\n\nWhat was covered?\n\n\n\nIn this webinar\, we delve into the critical techniques and technologies essential for ensuring robust border security. In this session\, we will explore the latest advancements in ID verification\, document authentication\, and fraud detection\, equipping you with the knowledge to identify counterfeit passports and travel documents effectively. \n\n\n\nWe will demonstrate these techniques using the latest and greatest in VSC technology showing you how to use the VSC to identify fake IDs and travel documents at the border. Whether you’re a border security professional\, law enforcement official\, or anyone interested in the frontline defense against identity fraud\, this webinar is your gateway to staying ahead in the ever-evolving landscape of document verification and security. \n\n\n\nWe will have a 30-minute question-and-answer session where we will answer any questions you may have about the world of forensics.  \n\n\n\n\n\n\n\n\n\n\n\n\n\n\n\n\n\n\n\nWhat equipment will we be showcasing? \n\n\n\n\n\n\n\n\n\n\n\nVSC® 900\n\n\n\nThe complete solution for hybrid document interrogations \n\n\n\n\nRead More\n\n\n\n\n\n\n\n\n\n\nShare this event:
URL:https://fosterfreeman.com/event/passport-control/
CATEGORIES:Archive,Top Ten Webinars,Webinars
ATTACH;FMTTYPE=image/jpeg:https://fosterfreeman.com/wp-content/uploads/2023/12/AdobeStock_505981361-scaled.jpeg
END:VEVENT
END:VCALENDAR