BEGIN:VCALENDAR
VERSION:2.0
PRODID:-//Foster+Freeman - ECPv6.15.18//NONSGML v1.0//EN
CALSCALE:GREGORIAN
METHOD:PUBLISH
X-ORIGINAL-URL:https://fosterfreeman.com
X-WR-CALDESC:Events for Foster+Freeman
REFRESH-INTERVAL;VALUE=DURATION:PT1H
X-Robots-Tag:noindex
X-PUBLISHED-TTL:PT1H
BEGIN:VTIMEZONE
TZID:Europe/London
BEGIN:DAYLIGHT
TZOFFSETFROM:+0000
TZOFFSETTO:+0100
TZNAME:BST
DTSTART:20220327T010000
END:DAYLIGHT
BEGIN:STANDARD
TZOFFSETFROM:+0100
TZOFFSETTO:+0000
TZNAME:GMT
DTSTART:20221030T010000
END:STANDARD
BEGIN:DAYLIGHT
TZOFFSETFROM:+0000
TZOFFSETTO:+0100
TZNAME:BST
DTSTART:20230326T010000
END:DAYLIGHT
BEGIN:STANDARD
TZOFFSETFROM:+0100
TZOFFSETTO:+0000
TZNAME:GMT
DTSTART:20231029T010000
END:STANDARD
BEGIN:DAYLIGHT
TZOFFSETFROM:+0000
TZOFFSETTO:+0100
TZNAME:BST
DTSTART:20240331T010000
END:DAYLIGHT
BEGIN:STANDARD
TZOFFSETFROM:+0100
TZOFFSETTO:+0000
TZNAME:GMT
DTSTART:20241027T010000
END:STANDARD
BEGIN:DAYLIGHT
TZOFFSETFROM:+0000
TZOFFSETTO:+0100
TZNAME:BST
DTSTART:20250330T010000
END:DAYLIGHT
BEGIN:STANDARD
TZOFFSETFROM:+0100
TZOFFSETTO:+0000
TZNAME:GMT
DTSTART:20251026T010000
END:STANDARD
END:VTIMEZONE
BEGIN:VTIMEZONE
TZID:UTC
BEGIN:STANDARD
TZOFFSETFROM:+0000
TZOFFSETTO:+0000
TZNAME:UTC
DTSTART:20200101T000000
END:STANDARD
END:VTIMEZONE
BEGIN:VEVENT
DTSTART;TZID=Europe/London:20240925T000000
DTEND;TZID=Europe/London:20240925T235959
DTSTAMP:20260421T105158
CREATED:20240603T090947Z
LAST-MODIFIED:20241029T132606Z
UID:21889-1727222400-1727308799@fosterfreeman.com
SUMMARY:Webinar - Bridging the Gap: International Forensics
DESCRIPTION:Watch Now\n\n\n\n\n\n\n\n\nWhat was covered?\n\n\n\n\n\nJoin us for another instalment of the foster+freeman forensic webinar series. In this session\, we will explore how modern forensic technology helps bridge the gap in international forensics. We will discuss the challenges faced in international forensic science\, how we are addressing these challenges\, and the role of advanced technology in closing this divide. \n\n\n\nOur forensic experts will explain the theory behind bridging the international forensics gap\, showcase the most effective techniques\, and share useful tips for collaborative forensic investigations\, covering areas from body fluids and crime scene investigation (CSI) to questioned documents and fraud. \n\n\n\n\n\n\n\n\n\n\n\n\n\n\nWhat equipment will we be showcasing?\n\n\n\n\n\n	\n				\n			\n							\n		\n				\n			\n	Crime-lite® AUTO\n	\n		Forensic imaging technology meets powerful multi-spectral illumination in this complete solution to the search\, detection\, and capture of evidence. \n	\n	\n			\n			\n				\n					LEARN MORE Crime-lite® AUTOContinue\n							\n			 \n		\n				\n	\n\n\n\n\n\n\n\n\n\n\n\n\n\n\n\n\n\n\n\n\nRequest a Subject\n\n\n\nOur webinar team are always on the lookout for new ideas\, let us know what you’d like us to cover in future! \n\n\n\n\nREQUEST NOWName *Email Address * Your Webinar Request *0 / 1000Consent *Yes\, I agree with the privacy policy\, and to receive further communication from foster+freeman.  SubmitPlease do not fill in this field. \n\n\n\n\n\n\n\n\n\n\n\n\n\nRequest a Subject\n\n\n\nOur webinar team are always on the lookout for new ideas\, let us know what you’d like us to cover in future! \n\n\n\n\nREQUEST NOWName *Email Address * Your Webinar Request *0 / 1000Consent *Yes\, I agree with the privacy policy\, and to receive further communication from foster+freeman.  SubmitPlease do not fill in this field. Please do not fill in this field. \n\n\n\n\n\n\n\n\n\n\n\n\n\n\n\nDon’t miss out…\n\n\n\n\n\nNever Miss a Webinar\n\n\n\nSign up to our mailing list today and be the first to hear about our upcoming webinars and much more. \n\n\n\n\n\n\n\n\n\n\n\nFollow Us\n\n\n\nKeep up to date with the latest developments across our social media channels \n\n\n\nLinkedIn\n\nYouTube\n\nInstagram\n\nX
URL:https://fosterfreeman.com/event/bridging-the-gap-international-forensics/
CATEGORIES:Archive,Top Ten Webinars,Webinars
ATTACH;FMTTYPE=image/png:https://fosterfreeman.com/wp-content/uploads/2024/06/Screenshot-2024-06-03-114118.png
END:VEVENT
BEGIN:VEVENT
DTSTART;TZID=Europe/London:20240327T000000
DTEND;TZID=Europe/London:20240327T235959
DTSTAMP:20260421T105158
CREATED:20240116T121435Z
LAST-MODIFIED:20240531T151214Z
UID:19033-1711497600-1711583999@fosterfreeman.com
SUMMARY:Webinar - Passport Control
DESCRIPTION:Watch Now\n\n\n\n\n\n\n\n\n\n\n\n\nWhat was covered?\n\n\n\nIn this webinar\, we delve into the critical techniques and technologies essential for ensuring robust border security. In this session\, we will explore the latest advancements in ID verification\, document authentication\, and fraud detection\, equipping you with the knowledge to identify counterfeit passports and travel documents effectively. \n\n\n\nWe will demonstrate these techniques using the latest and greatest in VSC technology showing you how to use the VSC to identify fake IDs and travel documents at the border. Whether you’re a border security professional\, law enforcement official\, or anyone interested in the frontline defense against identity fraud\, this webinar is your gateway to staying ahead in the ever-evolving landscape of document verification and security. \n\n\n\nWe will have a 30-minute question-and-answer session where we will answer any questions you may have about the world of forensics.  \n\n\n\n\n\n\n\n\n\n\n\n\n\n\n\n\n\n\n\nWhat equipment will we be showcasing? \n\n\n\n\n\n\n\n\n\n\n\nVSC® 900\n\n\n\nThe complete solution for hybrid document interrogations \n\n\n\n\nRead More\n\n\n\n\n\n\n\n\n\n\nShare this event:
URL:https://fosterfreeman.com/event/passport-control/
CATEGORIES:Archive,Top Ten Webinars,Webinars
ATTACH;FMTTYPE=image/jpeg:https://fosterfreeman.com/wp-content/uploads/2023/12/AdobeStock_505981361-scaled.jpeg
END:VEVENT
BEGIN:VEVENT
DTSTART;TZID=Europe/London:20240228T000000
DTEND;TZID=Europe/London:20240228T235959
DTSTAMP:20260421T105158
CREATED:20240116T112855Z
LAST-MODIFIED:20240531T151356Z
UID:19018-1709078400-1709164799@fosterfreeman.com
SUMMARY:Webinar -  Detect More Evidence
DESCRIPTION:Watch Now\n\n\n\n\n\n\n\n\n\n\n\n\n\n\n\n\n\n\nWhat was covered?\n\n\n\nIn this webinar\, we look at how you can get the most out of your forensic light sources to help detect\, identify and examine more forensic evidence. We discuss how we can get the most out of your laboratory and crime scene equipment and producers to detect more evidence. \n\n\n\nWe explain the theory behind detecting more evidence and we will demonstrate this theory and new techniques using our best-in-class forensic light sources.  \n\n\n\n\n\n\n\n\n\n\n\nWhat equipment will we be showcasing? \n\n\n\n\n\n\n\n\n\n\n\nCrime-lite® AUTO\n\n\n\nComplete solution to the search\, detection\, and capture of evidence. \n\n\n\n\nRead More\n\n\n\n\n\n\n\n\n\n\nRECOVER LFT\n\n\n\nRECOVER LFT is a cutting-edge chemical vapor fuming process to develop fingerprints on a range of difficult surfaces \n\n\n\n\nRead More\n\n\n\n\n\n\n\n\n\n\nCrime-lite® 82S PRO\n\n\n\nGold-Standard Forensic Alternate Light Source Technology \n\n\n\nDetect more evidence using Crime-lite 82S PRO light sources\, a powerful upgrade to our best-in-class forensic search tools. \n\n\n\n\nRead More\n\n\n\n\n\n\n\n\n\n\nShare this event:
URL:https://fosterfreeman.com/event/detect-more-evidence/
CATEGORIES:Archive,Top Ten Webinars,Webinars
ATTACH;FMTTYPE=image/jpeg:https://fosterfreeman.com/wp-content/uploads/2022/07/examine-evidence.jpg
END:VEVENT
BEGIN:VEVENT
DTSTART;TZID=Europe/London:20231129T000000
DTEND;TZID=Europe/London:20231129T235959
DTSTAMP:20260421T105158
CREATED:20230831T075534Z
LAST-MODIFIED:20240531T151244Z
UID:18056-1701216000-1701302399@fosterfreeman.com
SUMMARY:Webinar - Forensic Science versus Volume Crime
DESCRIPTION:Crime scene technology for the investigation of robbery\, burglary\, vehicle crime\, criminal damage\, drugs and assaults \n\n\n\n\n\n\n\n\n\n\n\n\nWatch Now\n\n\n\n\n\n\n\n\n\n\n\n\n\n\n\n\n\n\nWhat will we be covering?\n\n\n\n\n\nIn this webinar we discuss Forensic Science versus Volume Crime! We will discuss forensic science for the investigation of volume crimes; robbery\, burglary\, vehicle crime\, drugs and assaults. We will demonstrate how our products can help quickly and efficiently gather the evidence needed in these volume crimes! \n\n\n\n\n\n\n\n\n\n\n\n\n\n\n\n\n\nWhat equipment will we be showcasing? \n\n\n\n\n\n\n\n\n\n\n\nCrime-lite® AUTO\n\n\n\nComplete solution to the search\, detection\, and capture of evidence. \n\n\n\n\nRead More\n\n\n\n\n\n\n\n\n\n\nDCS®5\n\n\n\nNo compromise fingerprint imaging workstation for unrivalled results \n\n\n\n\nRead More\n\n\n\n\n\n\n\n\n\n\n\n\nPresenters\n\n\n\n\n\n\n\n\n\n\n\nRoberto KingVP of Product Management \n\n\n\n\n\n\n\n\n\nDan FreemanApplication Specialist \n\n\n\n\n\n\n\n\n\nLaura DoddApplication Specialist \n\n\n\n\n\n\n\n\n\nCalypso HarveyApplication Specialist \n\n\n\n\n\n\n\n\n\nShare this event:
URL:https://fosterfreeman.com/event/forensic-science-versus-volume-crime/
CATEGORIES:Archive,Top Ten Webinars,Webinars
ATTACH;FMTTYPE=image/jpeg:https://fosterfreeman.com/wp-content/uploads/2023/08/cl-x-in-use.jpg
END:VEVENT
BEGIN:VEVENT
DTSTART;TZID=UTC:20210602T000000
DTEND;TZID=UTC:20210602T235959
DTSTAMP:20260421T105158
CREATED:20210602T113713Z
LAST-MODIFIED:20240531T151101Z
UID:10444-1622592000-1622678399@fosterfreeman.com
SUMMARY:Webinar - Skin Deep Forensics
DESCRIPTION:Webinars\n\n\n\n\n\n\n\nWatch Now\n\n\n\n\n\n\n \n\n\n\nThroughout the webinar\, we’ll be using our range of Crime-lites to explain the theory and techniques that enable forensic examiners to reveal vital traces of evidence in cases of sexual and physical assault\, not to mention the countless other crimes that may require the human body to be investigated as a crime scene in its own right. \n\n\n\nDuration: 1 hour (including Q&A session) \n\n\n\nShare this event:\n\n\n\n\n	\n\n	\n		\n			\n											\n\n		\n			\n											\n\n		\n			\n											\n\n					\n\n\n\n\n\nSkin deep forensics – Foster + Freeman
URL:https://fosterfreeman.com/event/webinar-skin-deep-forensics/
CATEGORIES:Archive,Top Ten Webinars,Webinars
ATTACH;FMTTYPE=image/gif:https://fosterfreeman.com/wp-content/uploads/webinar-update-images/skin-deep.gif
END:VEVENT
END:VCALENDAR